BEGIN:VCALENDAR
VERSION:2.0
CALSCALE:GREGORIAN
PRODID:-//Diputació de Barcelona//DibaCMS//EN
BEGIN:VEVENT
UID:9821
DTSTAMP:20260425T162202
DTSTART:20260424T092800
DTEND:20340413T000000
SUMMARY:Dimarts 28 d'abril, ple extraordinari de l'Ajuntament
LOCATION:
METHOD:PUBLISH
X-WR-CALNAME:vallromanes@vallromanes.cat
X-WR-TIMEZONE:Europe/Madrid
DESCRIPTION:
URI:https://www.vallromanes.cat/actualitat/noticies/dimarts-28-dabril-ple-extraordinari-de-lajuntament.html
CLASS:PUBLIC
END:VEVENT
END:VCALENDAR
