BEGIN:VCALENDAR
VERSION:2.0
CALSCALE:GREGORIAN
PRODID:-//Diputació de Barcelona//DibaCMS//EN
BEGIN:VEVENT
UID:9819
DTSTAMP:20260423T141732
DTSTART:20260422T190300
DTEND:20300418T000000
SUMMARY:La plaça de l'Església s'omplirà de roses, llibres i activitats per a la Diada de Sant Jordi a Vallromanes
LOCATION:
METHOD:PUBLISH
X-WR-CALNAME:vallromanes@vallromanes.cat
X-WR-TIMEZONE:Europe/Madrid
DESCRIPTION:
URI:https://www.vallromanes.cat/actualitat/noticies/la-placa-de-lesglesia-somplira-de-roses-llibres-i-activitats-per-a-la-diada-de-sant-jordi-a-vallromanes.html
CLASS:PUBLIC
END:VEVENT
END:VCALENDAR
