BEGIN:VCALENDAR
VERSION:2.0
CALSCALE:GREGORIAN
PRODID:-//Diputació de Barcelona//DibaCMS//EN
BEGIN:VEVENT
UID:9818
DTSTAMP:20260422T165511
DTSTART:20260421T100300
DTEND:20270420T000000
SUMMARY:Torna el DeixaLlibres per Sant Jordi
LOCATION:
METHOD:PUBLISH
X-WR-CALNAME:vallromanes@vallromanes.cat
X-WR-TIMEZONE:Europe/Madrid
DESCRIPTION:
URI:https://www.vallromanes.cat/actualitat/noticies/9818-torna-el-deixallibres-per-sant-jordi.html
CLASS:PUBLIC
END:VEVENT
END:VCALENDAR
