BEGIN:VCALENDAR
VERSION:2.0
CALSCALE:GREGORIAN
PRODID:-//Diputació de Barcelona//DibaCMS//EN
BEGIN:VEVENT
UID:9683
DTSTAMP:20260421T144938
DTSTART:20260116T093900
DTEND:20350118T000000
SUMMARY:Arriba la Festa Major d'hivern Sant Vicenç 2026
LOCATION:
METHOD:PUBLISH
X-WR-CALNAME:vallromanes@vallromanes.cat
X-WR-TIMEZONE:Europe/Madrid
DESCRIPTION:
URI:https://www.vallromanes.cat/actualitat/noticies/arriba-la-festa-major-dhivern-sant-vicenc-2026.html
CLASS:PUBLIC
END:VEVENT
END:VCALENDAR
