BEGIN:VCALENDAR
VERSION:2.0
CALSCALE:GREGORIAN
PRODID:-//Diputació de Barcelona//DibaCMS//EN
BEGIN:VEVENT
UID:9681
DTSTAMP:20260426T030505
DTSTART:20260214T170000
DTEND:20260214T203000
SUMMARY:Carnaval: "Gaspatxo de Cançons", Cia. Més Tumàcat
LOCATION:
METHOD:PUBLISH
X-WR-CALNAME:vallromanes@vallromanes.cat
X-WR-TIMEZONE:Europe/Madrid
DESCRIPTION:
URI:https://www.vallromanes.cat/actualitat/agenda/carnaval-gaspatxo-de-cancons-cia-mes-tumacat.html
CLASS:PUBLIC
END:VEVENT
END:VCALENDAR
