BEGIN:VCALENDAR
VERSION:2.0
CALSCALE:GREGORIAN
PRODID:-//Diputació de Barcelona//DibaCMS//EN
BEGIN:VEVENT
UID:9680
DTSTAMP:20260426T055312
DTSTART:20260125T183000
DTEND:20260125T193000
SUMMARY:Concert de Festa Major de la Coral de Vallromanes
LOCATION:Casal de Cultura 
METHOD:PUBLISH
X-WR-CALNAME:vallromanes@vallromanes.cat
X-WR-TIMEZONE:Europe/Madrid
DESCRIPTION:
URI:https://www.vallromanes.cat/actualitat/agenda/9680-concert-de-festa-major-de-la-coral-de-vallromanes.html
CLASS:PUBLIC
END:VEVENT
END:VCALENDAR
