BEGIN:VCALENDAR
VERSION:2.0
CALSCALE:GREGORIAN
PRODID:-//Diputació de Barcelona//DibaCMS//EN
BEGIN:VEVENT
UID:9679
DTSTAMP:20260426T053801
DTSTART:20260125T120000
DTEND:20260125T130000
SUMMARY:Animació musical: "Xafarranxo"
LOCATION:
METHOD:PUBLISH
X-WR-CALNAME:vallromanes@vallromanes.cat
X-WR-TIMEZONE:Europe/Madrid
DESCRIPTION:
URI:https://www.vallromanes.cat/actualitat/agenda/animacio-musical-xafarranxo.html
CLASS:PUBLIC
END:VEVENT
END:VCALENDAR
