BEGIN:VCALENDAR
VERSION:2.0
CALSCALE:GREGORIAN
PRODID:-//Diputació de Barcelona//DibaCMS//EN
BEGIN:VEVENT
UID:9678
DTSTAMP:20260426T042144
DTSTART:20260124T200000
DTEND:20260124T213000
SUMMARY:Teatre: "L'inspector", amb Cia. Pànic Teatre
LOCATION:Casal de Cultura 
METHOD:PUBLISH
X-WR-CALNAME:vallromanes@vallromanes.cat
X-WR-TIMEZONE:Europe/Madrid
DESCRIPTION:
URI:https://www.vallromanes.cat/actualitat/agenda/teatre-linspector-amb-cia-panic-teatre.html
CLASS:PUBLIC
END:VEVENT
END:VCALENDAR
