BEGIN:VCALENDAR
VERSION:2.0
CALSCALE:GREGORIAN
PRODID:-//Diputació de Barcelona//DibaCMS//EN
BEGIN:VEVENT
UID:9676
DTSTAMP:20260426T022255
DTSTART:20260225T173000
DTEND:20260225T183000
SUMMARY:L'Hora del Conte: "L'arbre de la Margot", amb La Boia Teatre
LOCATION:Casal de Cultura 
METHOD:PUBLISH
X-WR-CALNAME:vallromanes@vallromanes.cat
X-WR-TIMEZONE:Europe/Madrid
DESCRIPTION:
URI:https://www.vallromanes.cat/actualitat/agenda/9676-lhora-del-conte-larbre-de-la-margot-amb-la-boia-teatre.html
CLASS:PUBLIC
END:VEVENT
END:VCALENDAR
