BEGIN:VCALENDAR
VERSION:2.0
CALSCALE:GREGORIAN
PRODID:-//Diputació de Barcelona//DibaCMS//EN
BEGIN:VEVENT
UID:9672
DTSTAMP:20260426T021928
DTSTART:20260206T183000
DTEND:20260206T193000
SUMMARY:Club de lectura: "Un assassí", de Lluís Tort, amb la presència de l'autor.
LOCATION:Casal de Cultura 
METHOD:PUBLISH
X-WR-CALNAME:vallromanes@vallromanes.cat
X-WR-TIMEZONE:Europe/Madrid
DESCRIPTION:Trobades literàries conduïdes per Ma. del Carme Janer.

URI:https://www.vallromanes.cat/actualitat/agenda/club-de-lectura-un-assassi-de-lluis-tort-amb-la-presencia-de-lautor.html
CLASS:PUBLIC
END:VEVENT
END:VCALENDAR
