BEGIN:VCALENDAR
VERSION:2.0
CALSCALE:GREGORIAN
PRODID:-//Diputació de Barcelona//DibaCMS//EN
BEGIN:VEVENT
UID:9515
DTSTAMP:20260425T163726
DTSTART:20250818T111100
DTEND:20330819T000000
SUMMARY:Canvi del sistema de recollida de residus per un nou model de contenidors tancats
LOCATION:
METHOD:PUBLISH
X-WR-CALNAME:vallromanes@vallromanes.cat
X-WR-TIMEZONE:Europe/Madrid
DESCRIPTION:
URI:https://www.vallromanes.cat/actualitat/noticies/canvi-del-sistema-de-recollida-de-residus-per-un-nou-model-de-contenidors-tancats.html
CLASS:PUBLIC
END:VEVENT
END:VCALENDAR
