BEGIN:VCALENDAR
VERSION:2.0
CALSCALE:GREGORIAN
PRODID:-//Diputació de Barcelona//DibaCMS//EN
BEGIN:VEVENT
UID:9344
DTSTAMP:20260420T045319
DTSTART:20260429T170000
DTEND:20260429T190000
SUMMARY:Xerrada "Després de l'ESO, què?"
LOCATION:Espai Jove Àrea51 
METHOD:PUBLISH
X-WR-CALNAME:vallromanes@vallromanes.cat
X-WR-TIMEZONE:Europe/Madrid
DESCRIPTION:
URI:https://www.vallromanes.cat/actualitat/agenda/9344-xerrada-despres-de-leso-que.html
CLASS:PUBLIC
END:VEVENT
END:VCALENDAR
